BEGIN:VCALENDAR
VERSION:2.0
PRODID:http://www.koblenzlinksdermosel.de
BEGIN:VEVENT
UID:f1debf81-3fba-11f1-a3e9-0242ac11002b-1779008400000-de
DTSTAMP:20260424T085237Z
DTSTART:20260517T090000Z
DTEND:20260517T100000Z
SUMMARY;LANGUAGE=de:Hl. Messe, anschließend St. Servatius-Prozession
END:VEVENT
END:VCALENDAR
