BEGIN:VCALENDAR
VERSION:2.0
PRODID:http://www.koblenzlinksdermosel.de
BEGIN:VEVENT
UID:cbb9ffb3-3fb9-11f1-a3e9-0242ac11002b-1778403600000-de
DTSTAMP:20260424T084424Z
DTSTART:20260510T090000Z
DTEND:20260510T100000Z
SUMMARY;LANGUAGE=de:Dankgottesdienst für alle Kommunionkinder unserer Pfarrei
END:VEVENT
END:VCALENDAR
