BEGIN:VCALENDAR
VERSION:2.0
PRODID:http://www.koblenzlinksdermosel.de
BEGIN:VEVENT
UID:6f695721-3fb9-11f1-a3e9-0242ac11002b-1778398200000-de
DTSTAMP:20260424T084149Z
DTSTART:20260510T073000Z
DTEND:20260510T083000Z
SUMMARY;LANGUAGE=de:Hl. Messe "Mamma Mia" unter Mitwirkung des Gesangsensembles Canti-Ko
END:VEVENT
END:VCALENDAR
